BEGIN:VCALENDAR
VERSION:2.0
PRODID:-//pretix//Post-X_Society_Pretix//
BEGIN:VTIMEZONE
TZID:Europe/Amsterdam
BEGIN:STANDARD
DTSTART:20001029T040000
RRULE:FREQ=YEARLY;BYDAY=-1SU;BYMONTH=10
TZNAME:CET
TZOFFSETFROM:+0200
TZOFFSETTO:+0100
END:STANDARD
BEGIN:DAYLIGHT
DTSTART:20000326T030000
RRULE:FREQ=YEARLY;BYDAY=-1SU;BYMONTH=3
TZNAME:CEST
TZOFFSETFROM:+0100
TZOFFSETTO:+0200
END:DAYLIGHT
END:VTIMEZONE
BEGIN:VEVENT
UID:pretix-pxs-pc2-0@pretix.postxsociety.cloud
DTSTART;TZID=Europe/Amsterdam:20250605T190000
DTEND;TZID=Europe/Amsterdam:20250605T210000
DESCRIPTION:Tickets: https://pretix.postxsociety.cloud/pxs/pc2/\nOrganisato
 r: Post-X Society
DTSTAMP:20260425T195342Z
LOCATION:Leidsekade 117 - 118\, 3531 HD Utrecht
SUMMARY:Kapitalisme is nu\, wat erna komt bepaal jij!
END:VEVENT
END:VCALENDAR
